BEGIN:VCALENDAR
VERSION:2.0
PRODID:-//Open Up Office - İstanbul Sanal Ofis &amp; Hazır Ofis - ECPv5.3.2.1//NONSGML v1.0//EN
CALSCALE:GREGORIAN
METHOD:PUBLISH
X-WR-CALNAME:Open Up Office - İstanbul Sanal Ofis &amp; Hazır Ofis
X-ORIGINAL-URL:https://www.openupoffice.com
X-WR-CALDESC:Open Up Office - İstanbul Sanal Ofis &amp; Hazır Ofis için etkinlikler
BEGIN:VTIMEZONE
TZID:Europe/Istanbul
BEGIN:STANDARD
TZOFFSETFROM:+0300
TZOFFSETTO:+0300
TZNAME:+03
DTSTART:20190101T000000
END:STANDARD
END:VTIMEZONE
BEGIN:VEVENT
DTSTART;TZID=Europe/Istanbul:20191114T190000
DTEND;TZID=Europe/Istanbul:20191114T210000
DTSTAMP:20260421T120252
CREATED:20191019T104008Z
LAST-MODIFIED:20191021T074422Z
UID:10504-1573758000-1573765200@www.openupoffice.com
SUMMARY:Emoji Emotion Etkinliği
DESCRIPTION:BESTPro Academy Kurucu Eğitmeni Prof. Dr. Betül Saf’ın eğitmen olarak yer aldığı bu etkinliği hayatın koşuşturmasına 2 saat mola vermek isteyenler için. “Mindfulness” ve Agile” temellerine dayalı interaktif ve bol sürprizli bir etkinliktir.\nHadi\, hayata bir mola ver. “Emoji Emotion” etkinliğimize gel! İyi hissedeceksin. \n  \nProf. Dr. Betül SAF tarafından kurulan BESTPRO Academy sürdürülebilir gelişme ve öğrenme prensibiyle bireyler ve kurumlarla gerçekleştirdiği her eğitim ve çalışmaya bilgisini\, tecrübesini\, yenilikçi yaklaşımını\, vizyonunu ve kalitesini yansıtır. \nAmacı; hayatın her alanındaki mevcut ve istediği duruşu net bir biçimde tanımlayarak gelişim\, öğrenme\, davranışsal değişim ve dengeli yönetimi gerçekleştiren benzersiz ve  özel olan bireysel ve kurumsal değerinizi oluşturmanızı sağlamaktır. \nBunu; alanında yetkin\, bilgili\, tecrübeli ve vizyon sahibi ekibiyle özel olarak  geliştirdiği sistemiyle gerçekleştirmektedir. \n\nBireysel hayatınızı sahip olduğunuz eşsiz ve benzersiz özelliklerinizle fark yaratan dinamizmle  yaşamayı;\nHayatınızın her alanında koşullar her ne olursa olsun yeni ve zor seçimlerle karşılaştığınızda bile karar verebilen ve bu kararı vizyonerliğinizi yansıtan bir lider gibi eyleme geçirebilmeyi;\nSadece sertifikalı profesyonel bir koç olmak yerine bu meslekte benzersiz etkinizi yansıtmayı;\nYönetim ve liderlik becerileri kadar sosyal iletişim zekasının önemini anlamış ve bunun nasıl geliştirileceğini öğrenmeyi;\nGünümüzün karmaşık iş dünyasında kurumsal denge sistemini kurmayı;\n\nönemsiyor\, istiyor ve hedefliyorsanız BESTPRO Academy yanınızda!
URL:https://www.openupoffice.com/etkinlikler/emoji-emotion-egitimi/
LOCATION:Open Up Office\, Levent\, Yunus Emre Cd. Yeşilce Mh. Nil Ticaret Merkezi No:8/1\, İstanbul\, 34418\, Türkiye
CATEGORIES:Eğitim
ATTACH;FMTTYPE=image/jpeg:https://www.openupoffice.com/wp-content/uploads/2019/10/Emoji-Emotion_1-1.jpg
ORGANIZER;CN="Open%20Up%20Office":MAILTO:info@openupoffice.com
END:VEVENT
END:VCALENDAR